BEGIN:VCALENDAR
VERSION:2.0
PRODID:-//Fischereimuseum Bergheim/Sieg - ECPv6.15.20//NONSGML v1.0//EN
CALSCALE:GREGORIAN
METHOD:PUBLISH
X-WR-CALNAME:Fischereimuseum Bergheim/Sieg
X-ORIGINAL-URL:https://fischereimuseum-bergheim.de
X-WR-CALDESC:Veranstaltungen für Fischereimuseum Bergheim/Sieg
REFRESH-INTERVAL;VALUE=DURATION:PT1H
X-Robots-Tag:noindex
X-PUBLISHED-TTL:PT1H
BEGIN:VTIMEZONE
TZID:Europe/Berlin
BEGIN:DAYLIGHT
TZOFFSETFROM:+0100
TZOFFSETTO:+0200
TZNAME:CEST
DTSTART:20190331T010000
END:DAYLIGHT
BEGIN:STANDARD
TZOFFSETFROM:+0200
TZOFFSETTO:+0100
TZNAME:CET
DTSTART:20191027T010000
END:STANDARD
BEGIN:DAYLIGHT
TZOFFSETFROM:+0100
TZOFFSETTO:+0200
TZNAME:CEST
DTSTART:20200329T010000
END:DAYLIGHT
BEGIN:STANDARD
TZOFFSETFROM:+0200
TZOFFSETTO:+0100
TZNAME:CET
DTSTART:20201025T010000
END:STANDARD
BEGIN:DAYLIGHT
TZOFFSETFROM:+0100
TZOFFSETTO:+0200
TZNAME:CEST
DTSTART:20210328T010000
END:DAYLIGHT
BEGIN:STANDARD
TZOFFSETFROM:+0200
TZOFFSETTO:+0100
TZNAME:CET
DTSTART:20211031T010000
END:STANDARD
END:VTIMEZONE
BEGIN:VEVENT
DTSTART;TZID=Europe/Berlin:20200823T110000
DTEND;TZID=Europe/Berlin:20201115T000000
DTSTAMP:20260420T153927
CREATED:20200106T155320Z
LAST-MODIFIED:20200706T095013Z
UID:1268-1598180400-1605398400@fischereimuseum-bergheim.de
SUMMARY:Ausstellung - Farbklang und Raumfülle
DESCRIPTION:Skulp­tu­ren und Bil­der von Fischen und ande­rem Aus­stel­lung von Hel­ga Ros­tock und Hei­de Ludowig \nHel­ga Ros­tock ist aus­ge­bil­de­te Kera­mi­ke­rin und Bildhauerin.\nSie gestal­tet Skulp­tu­ren und Objek­te bei weit­ge­hen­der Redu­zie­rung von for­ma­len Elementen. \nHei­de Ludo­wig gehört zu den „Spät­be­ru­fe­nen“ in der Kunst und arbei­tet mit ver­schie­de­nen Techniken.\nIm Mit­tel­punkt der Aus­stel­lung ste­hen Was­ser- und Fischbilder. \nMit den Fisch­skulp­tu­ren von Frau Ros­tock kön­nen Sie auch ihren Gar­ten verschönern. \nDie Ver­nis­sa­ge fin­det am 23. August 2020 um 11:00 Uhr statt.\nDie Aus­stel­lung ist bis Mit­te Novem­ber 2020 wäh­rend der Öff­nungs­zei­ten zu sehen.
URL:https://fischereimuseum-bergheim.de/event/ausstellung-farbklang-und-raumfuelle/
CATEGORIES:Ausstellung
END:VEVENT
BEGIN:VEVENT
DTSTART;TZID=Europe/Berlin:20201112T190000
DTEND;TZID=Europe/Berlin:20201112T210000
DTSTAMP:20260420T153928
CREATED:20200706T092205Z
LAST-MODIFIED:20201022T070220Z
UID:1676-1605207600-1605214800@fischereimuseum-bergheim.de
SUMMARY:Die bunte Welt der Livemusik - Absage wegen Corona !
DESCRIPTION:19.00 – ca. 21.00 Uhr | Ein­tritt 12\,00 €\nReser­vie­run­gen unter\nkarte.reservieren@web.de oder Tele­fon 0228–4798079
URL:https://fischereimuseum-bergheim.de/event/die-bunte-welt-der-livemusik-weitere-angaben-folgen-3/
CATEGORIES:Konzerte
END:VEVENT
BEGIN:VEVENT
DTSTART;TZID=Europe/Berlin:20201115T120000
DTEND;TZID=Europe/Berlin:20201115T170000
DTSTAMP:20260420T153928
CREATED:20200709T103909Z
LAST-MODIFIED:20200709T103909Z
UID:1714-1605441600-1605459600@fischereimuseum-bergheim.de
SUMMARY:10 Jahre neues Fischereimuseum
DESCRIPTION:Das Pro­gramm folgt !
URL:https://fischereimuseum-bergheim.de/event/10-jahre-neues-fischereimuseum/
CATEGORIES:Aktionen
END:VEVENT
BEGIN:VEVENT
DTSTART;TZID=Europe/Berlin:20201120T150000
DTEND;TZID=Europe/Berlin:20201120T170000
DTSTAMP:20260420T153928
CREATED:20200709T104143Z
LAST-MODIFIED:20200709T104143Z
UID:1716-1605884400-1605891600@fischereimuseum-bergheim.de
SUMMARY:Bundesweiter Vorlesetag - wir sind dabei
DESCRIPTION:Das Pro­gramm folgt !
URL:https://fischereimuseum-bergheim.de/event/vorlesetag/
CATEGORIES:Aktionen
END:VEVENT
END:VCALENDAR