BEGIN:VCALENDAR
VERSION:2.0
PRODID:-//Fischereimuseum Bergheim/Sieg - ECPv6.15.20//NONSGML v1.0//EN
CALSCALE:GREGORIAN
METHOD:PUBLISH
X-WR-CALNAME:Fischereimuseum Bergheim/Sieg
X-ORIGINAL-URL:https://fischereimuseum-bergheim.de
X-WR-CALDESC:Veranstaltungen für Fischereimuseum Bergheim/Sieg
REFRESH-INTERVAL;VALUE=DURATION:PT1H
X-Robots-Tag:noindex
X-PUBLISHED-TTL:PT1H
BEGIN:VTIMEZONE
TZID:Europe/Berlin
BEGIN:DAYLIGHT
TZOFFSETFROM:+0100
TZOFFSETTO:+0200
TZNAME:CEST
DTSTART:20190331T010000
END:DAYLIGHT
BEGIN:STANDARD
TZOFFSETFROM:+0200
TZOFFSETTO:+0100
TZNAME:CET
DTSTART:20191027T010000
END:STANDARD
BEGIN:DAYLIGHT
TZOFFSETFROM:+0100
TZOFFSETTO:+0200
TZNAME:CEST
DTSTART:20200329T010000
END:DAYLIGHT
BEGIN:STANDARD
TZOFFSETFROM:+0200
TZOFFSETTO:+0100
TZNAME:CET
DTSTART:20201025T010000
END:STANDARD
BEGIN:DAYLIGHT
TZOFFSETFROM:+0100
TZOFFSETTO:+0200
TZNAME:CEST
DTSTART:20210328T010000
END:DAYLIGHT
BEGIN:STANDARD
TZOFFSETFROM:+0200
TZOFFSETTO:+0100
TZNAME:CET
DTSTART:20211031T010000
END:STANDARD
END:VTIMEZONE
BEGIN:VEVENT
DTSTART;TZID=Europe/Berlin:20200803T100000
DTEND;TZID=Europe/Berlin:20200803T123000
DTSTAMP:20260422T150614
CREATED:20200706T090418Z
LAST-MODIFIED:20200720T083735Z
UID:1660-1596448800-1596457800@fischereimuseum-bergheim.de
SUMMARY:FERIENPROGRAMM - Koordinationsspiele - noch 5 Plätze frei
DESCRIPTION:Feri­en­pro­gramm\n10.00 – 12.30 Uhr\n15\,00 € incl. Material \nWir wär­men uns mit ein paar Spie­len auf und bau­en unse­re eige­nen Fang-Spie­le zum Mit­neh­men nach Hause. \nAnmel­dung erfor­der­lich! — NOCH 6 PLÄTZE verfügbar \nBit­te ein klei­nes Früh­stück sowie Klei­dung\, die schmut­zig wer­den darf\, mitbringen.
URL:https://fischereimuseum-bergheim.de/event/ferienprogramm-koordinationsspiele/
LOCATION:Fische­rei­mu­se­um\, NACHTIGALLENWEG 39\, TROISDORF\, Nordrhein-Westfalen\, 53844\, Deutschland
CATEGORIES:Ferienprogramm
ORGANIZER;CN="Fischereimuseum":MAILTO:info@fischereimuseum-bergheim-sieg.de
END:VEVENT
BEGIN:VEVENT
DTSTART;TZID=Europe/Berlin:20200804T100000
DTEND;TZID=Europe/Berlin:20200804T123000
DTSTAMP:20260422T150614
CREATED:20200706T090603Z
LAST-MODIFIED:20200720T083801Z
UID:1662-1596535200-1596544200@fischereimuseum-bergheim.de
SUMMARY:FERIENPROGRAMM - Upcycling - Sockenfisch und Tetrapacktaschen - noch 5 Plätze frei
DESCRIPTION:Feri­en­pro­gramm\n10.00 – 12.30 Uhr\n15\,00 € incl. Material \nAus alt mach neu!\nWir erwe­cken alte Socken und lee­re Saft­kar­tons zu neu­em Leben.\nSo ent­ste­hen aus Din­gen\, die eigent­lich in den Abfall wan­dern\, put­zi­ge Socken­fi­sche und nütz­li­che klei­ne Taschen.\nAlte/ ein­zel­ne Socken kön­nen ger­ne mit­ge­bracht und zu einem Schwarm Fische ver­bas­telt werden! \nAnmel­dung erfor­der­lich! — NOCH 5 PLÄTZE verfügbar \nBit­te ein klei­nes Früh­stück sowie Klei­dung\, die schmut­zig wer­den darf\, mitbringen.
URL:https://fischereimuseum-bergheim.de/event/ferienprogramm-upcycling/
LOCATION:Fische­rei­mu­se­um\, NACHTIGALLENWEG 39\, TROISDORF\, Nordrhein-Westfalen\, 53844\, Deutschland
CATEGORIES:Ferienprogramm
ORGANIZER;CN="Fischereimuseum":MAILTO:info@fischereimuseum-bergheim-sieg.de
END:VEVENT
BEGIN:VEVENT
DTSTART;TZID=Europe/Berlin:20200805T100000
DTEND;TZID=Europe/Berlin:20200805T123000
DTSTAMP:20260422T150614
CREATED:20200706T091313Z
LAST-MODIFIED:20200720T083844Z
UID:1664-1596621600-1596630600@fischereimuseum-bergheim.de
SUMMARY:FERIENPROGRAMM - Fische filzen - noch 3 Plätze frei
DESCRIPTION:Feri­en­pro­gramm\n10.00 – 12.30 Uhr\n15\,00 € incl. Material \nDie Tech­nik des Nass­fil­zens lernt ihr bei der Her­stel­lung klei­ner Filzobjekte.\nAus kun­ter­bun­ter Mär­chen­wol­le ent­ste­hen Zau­ber­ku­geln und klei­ne Fische. \nAnmel­dung erfor­der­lich! — NOCH 3 PLÄTZE verfügbar \nBit­te ein klei­nes Früh­stück sowie Klei­dung\, die schmut­zig wer­den darf\, mitbringen.
URL:https://fischereimuseum-bergheim.de/event/ferienprogramm-fische-filzen-2/
LOCATION:Fische­rei­mu­se­um\, NACHTIGALLENWEG 39\, TROISDORF\, Nordrhein-Westfalen\, 53844\, Deutschland
CATEGORIES:Ferienprogramm
ORGANIZER;CN="Fischereimuseum":MAILTO:info@fischereimuseum-bergheim-sieg.de
END:VEVENT
BEGIN:VEVENT
DTSTART;TZID=Europe/Berlin:20200806T100000
DTEND;TZID=Europe/Berlin:20200806T123000
DTSTAMP:20260422T150614
CREATED:20200706T091455Z
LAST-MODIFIED:20200720T083930Z
UID:1666-1596708000-1596717000@fischereimuseum-bergheim.de
SUMMARY:FERIENPROGRAMM - Experimente mit Luft - noch freie Plätze
DESCRIPTION:Feri­en­pro­gramm\n10.00 – 12.30 Uhr\n15\,00 € incl. Material \nLuft ist immer um uns her­um\, wir atmen sie jeden Tag – aber wir kön­nen sie nicht sehen!\nIn unse­ren heu­ti­gen Expe­ri­men­ten stel­len wir ver­blüfft fest\, dass Luft nicht Nichts ist und bas­teln ein Expe­ri­ment zum Mitnehmen. \nAnmel­dung erforderlich!  \nBit­te ein klei­nes Früh­stück sowie Klei­dung\, die schmut­zig wer­den darf\, mitbringen.
URL:https://fischereimuseum-bergheim.de/event/ferienprogramm-experimente-mit-luft/
LOCATION:Fische­rei­mu­se­um\, NACHTIGALLENWEG 39\, TROISDORF\, Nordrhein-Westfalen\, 53844\, Deutschland
CATEGORIES:Ferienprogramm
ORGANIZER;CN="Fischereimuseum":MAILTO:info@fischereimuseum-bergheim-sieg.de
END:VEVENT
BEGIN:VEVENT
DTSTART;TZID=Europe/Berlin:20200806T190000
DTEND;TZID=Europe/Berlin:20200806T210000
DTSTAMP:20260422T150614
CREATED:20200706T091933Z
LAST-MODIFIED:20200706T091933Z
UID:1670-1596740400-1596747600@fischereimuseum-bergheim.de
SUMMARY:Die bunte Welt der Livemusik - Weitere Angaben folgen !
DESCRIPTION:19.00 – ca. 21.00 Uhr | Ein­tritt 12\,00 €\nReser­vie­run­gen unter\nkarte.reservieren@web.de oder Tele­fon 0228–4798079
URL:https://fischereimuseum-bergheim.de/event/die-bunte-welt-der-livemusik/
CATEGORIES:Konzerte
END:VEVENT
BEGIN:VEVENT
DTSTART;TZID=Europe/Berlin:20200807T100000
DTEND;TZID=Europe/Berlin:20200807T123000
DTSTAMP:20260422T150614
CREATED:20200706T091732Z
LAST-MODIFIED:20200720T084014Z
UID:1668-1596794400-1596803400@fischereimuseum-bergheim.de
SUMMARY:FERIENPROGRAMM - Wanderfisch Aal - Eine abenteuerliche Reise zwischen Sieg und Sargassosee - noch 3 Plätze frei
DESCRIPTION:Feri­en­pro­gramm\nOffe­ner FINNE-Workshop \n10:00 – 12:30 Uhr\n5\,00 € Spen­de an das Muse­um sind erwünscht \nDas Leben der Aale ist span­nend und anstrengend.\nUm zu lai­chen\, neh­men sie eine lan­ge und gefähr­li­che Rei­se auf sich und\nschwim­men aus unse­ren Flüs­sen ins Meer und bis zu den Bahamas.\nDie Wan­de­rung der Aale steht im Mit­tel­punkt des Work­shops und mit vie­len Aktio­nen ler­nen wir\ndie­se zunächst unschein­ba­ren Fische genau­er kennen.\nZum Abschluss baut jedes Kind einen eige­nen Aal­wan­der­weg als Spiel zum Mitnehmen.. \nAnmel­dung erforderlich! \nBit­te ein klei­nes Früh­stück sowie Klei­dung\, die schmut­zig wer­den darf\, mitbringen. \n 
URL:https://fischereimuseum-bergheim.de/event/ferienprogramm-wanderfisch-aal/
LOCATION:Fische­rei­mu­se­um\, NACHTIGALLENWEG 39\, TROISDORF\, Nordrhein-Westfalen\, 53844\, Deutschland
CATEGORIES:Ferienprogramm
ORGANIZER;CN="Fischereimuseum":MAILTO:info@fischereimuseum-bergheim-sieg.de
END:VEVENT
BEGIN:VEVENT
DTSTART;TZID=Europe/Berlin:20200808T143000
DTEND;TZID=Europe/Berlin:20200808T160000
DTSTAMP:20260422T150614
CREATED:20200706T092645Z
LAST-MODIFIED:20200713T081943Z
UID:1680-1596897000-1596902400@fischereimuseum-bergheim.de
SUMMARY:Jahreszeitenwanderung: Kulturlandschaft Sieg
DESCRIPTION: Wild­kräu­ter mit Sabi­ne Klinke \nDie land­wirt­schaft­li­che Nut­zung der Berg­hei­mer Sie­gaue frü­her und heute \nFel­der und Obst­gär­ten lie­fer­ten den Berg­hei­mer Fischern seit jeher wert­vol­le Nah­rungs­mit­tel (Getrei­de\, Kar­tof­feln\, Obst\, Gemüse).\nNoch heu­te wer­den eini­ge Fel­der zum Anbau von Getrei­de\, Mais und Kar­tof­feln genutzt\,\ndie Obst­gär­ten sind heu­te größ­ten­teils verwildert.\nDie Bäu­me und Sträu­cher tra­gen aber immer noch Früch­te\, die man sam­meln kann\, z.B. Brom­bee­ren und Äpfel. \n14.30 – ca. 16.00 | Kos­ten € 5\,00 \nAnmel­dung erwünscht !
URL:https://fischereimuseum-bergheim.de/event/jahreszeitenwanderung-kulturlandschaft-sieg/
CATEGORIES:Aktionen,Wanderungen
END:VEVENT
BEGIN:VEVENT
DTSTART;TZID=Europe/Berlin:20200822T190000
DTEND;TZID=Europe/Berlin:20200822T220000
DTSTAMP:20260422T150614
CREATED:20200706T092915Z
LAST-MODIFIED:20200810T071911Z
UID:1682-1598122800-1598133600@fischereimuseum-bergheim.de
SUMMARY:Junior-Bat-Night - AUSGEBUCHT
DESCRIPTION:Das Fische­rei­mu­se­um ver­an­stal­tet gemein­sam mit dem BAFF die „Juni­or-Bat-Night“.\nEine span­nen­de Ral­lye und vie­le Aktio­nen ver­mit­teln Wis­sens­wer­tes zu den geflü­gel­ten Jägern\,\neine Pom­pon-Fle­der­maus wird gebastelt. \nBei einer Nacht­wan­de­rung in der Sie­gaue kön­nen die Fle­der­mäu­se beob­ach­tet werden. \nFür Kin­der ab 7 Jah­ren. Anmel­dung erforderlich! \nPreis inkl. Material.
URL:https://fischereimuseum-bergheim.de/event/junior-bat-night-2/
CATEGORIES:Wanderungen
ORGANIZER;CN="Fischereimuseum":MAILTO:info@fischereimuseum-bergheim-sieg.de
END:VEVENT
BEGIN:VEVENT
DTSTART;TZID=Europe/Berlin:20200823T110000
DTEND;TZID=Europe/Berlin:20201115T000000
DTSTAMP:20260422T150614
CREATED:20200106T155320Z
LAST-MODIFIED:20200706T095013Z
UID:1268-1598180400-1605398400@fischereimuseum-bergheim.de
SUMMARY:Ausstellung - Farbklang und Raumfülle
DESCRIPTION:Skulp­tu­ren und Bil­der von Fischen und ande­rem Aus­stel­lung von Hel­ga Ros­tock und Hei­de Ludowig \nHel­ga Ros­tock ist aus­ge­bil­de­te Kera­mi­ke­rin und Bildhauerin.\nSie gestal­tet Skulp­tu­ren und Objek­te bei weit­ge­hen­der Redu­zie­rung von for­ma­len Elementen. \nHei­de Ludo­wig gehört zu den „Spät­be­ru­fe­nen“ in der Kunst und arbei­tet mit ver­schie­de­nen Techniken.\nIm Mit­tel­punkt der Aus­stel­lung ste­hen Was­ser- und Fischbilder. \nMit den Fisch­skulp­tu­ren von Frau Ros­tock kön­nen Sie auch ihren Gar­ten verschönern. \nDie Ver­nis­sa­ge fin­det am 23. August 2020 um 11:00 Uhr statt.\nDie Aus­stel­lung ist bis Mit­te Novem­ber 2020 wäh­rend der Öff­nungs­zei­ten zu sehen.
URL:https://fischereimuseum-bergheim.de/event/ausstellung-farbklang-und-raumfuelle/
CATEGORIES:Ausstellung
END:VEVENT
BEGIN:VEVENT
DTSTART;TZID=Europe/Berlin:20200828T200000
DTEND;TZID=Europe/Berlin:20200828T220000
DTSTAMP:20260422T150614
CREATED:20200706T093039Z
LAST-MODIFIED:20200810T072056Z
UID:1684-1598644800-1598652000@fischereimuseum-bergheim.de
SUMMARY:24. Internationale Fledermausnacht - Bat Night für die ganze Familie - AUSGEBUCHT
DESCRIPTION:Nach einer Ein­füh­rung im Fische­rei­mu­se­um mit span­nen­dem Vor­trag geht es hin­aus in die dunk­le Siegaue\,\nwo mit Bat-Detek­tor und Taschen­lam­pen Fle­der­mäu­se gesucht werden. \nFür die gan­ze Fami­lie. Anmel­dung erwünscht! \nBAFF und Fische­rei­mu­se­um freu­en sich über eine Spende!
URL:https://fischereimuseum-bergheim.de/event/24-internationale-fledermausnacht-bat-night-fuer-die-ganze-familie/
CATEGORIES:Aktionen
ORGANIZER;CN="Fischereimuseum":MAILTO:info@fischereimuseum-bergheim-sieg.de
END:VEVENT
END:VCALENDAR