BEGIN:VCALENDAR
VERSION:2.0
PRODID:-//Fischereimuseum Bergheim/Sieg - ECPv6.15.20//NONSGML v1.0//EN
CALSCALE:GREGORIAN
METHOD:PUBLISH
X-WR-CALNAME:Fischereimuseum Bergheim/Sieg
X-ORIGINAL-URL:https://fischereimuseum-bergheim.de
X-WR-CALDESC:Veranstaltungen für Fischereimuseum Bergheim/Sieg
REFRESH-INTERVAL;VALUE=DURATION:PT1H
X-Robots-Tag:noindex
X-PUBLISHED-TTL:PT1H
BEGIN:VTIMEZONE
TZID:Europe/Berlin
BEGIN:DAYLIGHT
TZOFFSETFROM:+0100
TZOFFSETTO:+0200
TZNAME:CEST
DTSTART:20190331T010000
END:DAYLIGHT
BEGIN:STANDARD
TZOFFSETFROM:+0200
TZOFFSETTO:+0100
TZNAME:CET
DTSTART:20191027T010000
END:STANDARD
BEGIN:DAYLIGHT
TZOFFSETFROM:+0100
TZOFFSETTO:+0200
TZNAME:CEST
DTSTART:20200329T010000
END:DAYLIGHT
BEGIN:STANDARD
TZOFFSETFROM:+0200
TZOFFSETTO:+0100
TZNAME:CET
DTSTART:20201025T010000
END:STANDARD
BEGIN:DAYLIGHT
TZOFFSETFROM:+0100
TZOFFSETTO:+0200
TZNAME:CEST
DTSTART:20210328T010000
END:DAYLIGHT
BEGIN:STANDARD
TZOFFSETFROM:+0200
TZOFFSETTO:+0100
TZNAME:CET
DTSTART:20211031T010000
END:STANDARD
END:VTIMEZONE
BEGIN:VEVENT
DTSTART;TZID=Europe/Berlin:20200727T100000
DTEND;TZID=Europe/Berlin:20200727T123000
DTSTAMP:20260422T151912
CREATED:20200106T144217Z
LAST-MODIFIED:20200720T080735Z
UID:1228-1595844000-1595853000@fischereimuseum-bergheim.de
SUMMARY:FERIENPROGRAMM - Was summt denn da? - AUSGEBUCHT
DESCRIPTION:Feri­en­pro­gramm\nOffe­ner FINNE-Workshop \n10:00 – 12:30 Uhr\n5\,00 € Spen­de an das Muse­um sind erwünscht \nWir suchen Insek­ten in der Sie­gaue und beschäf­ti­gen uns mit Bie­nen und Bestäubung.\nAm Ende bas­telt jedes Kind ein klei­nes Insek­ten­ho­tel aus alten Konservendosen. \nAnmel­dung erforderlich!  \nAuf­grund der hohen Nach­fra­ge bie­ten wir die­sen Feri­en­pro­gramm­punkt auch am Nach­mit­tag von 14:00 — 16:30 Uhr an. \nBit­te ein klei­nes Früh­stück sowie Klei­dung\, die schmut­zig wer­den darf\, mitbringen. \n 
URL:https://fischereimuseum-bergheim.de/event/ferienprogramm-was-summt-denn-da/
LOCATION:Fische­rei­mu­se­um\, NACHTIGALLENWEG 39\, TROISDORF\, Nordrhein-Westfalen\, 53844\, Deutschland
CATEGORIES:Ferienprogramm
ORGANIZER;CN="Fischereimuseum":MAILTO:info@fischereimuseum-bergheim-sieg.de
END:VEVENT
BEGIN:VEVENT
DTSTART;TZID=Europe/Berlin:20200727T140000
DTEND;TZID=Europe/Berlin:20200727T163000
DTSTAMP:20260422T151912
CREATED:20200706T081846Z
LAST-MODIFIED:20200720T085110Z
UID:1645-1595858400-1595867400@fischereimuseum-bergheim.de
SUMMARY:FERIENPROGRAMM - Was summt denn da? - AUSGEBUCHT
DESCRIPTION:Feri­en­pro­gramm\nOffe­ner FINNE-Workshop \n14:00 – 16:30 Uhr\n5\,00 € Spen­de an das Muse­um sind erwünscht \nWir suchen Insek­ten in der Sie­gaue und beschäf­ti­gen uns mit Bie­nen und Bestäubung.\nAm Ende bas­telt jedes Kind ein klei­nes Insek­ten­ho­tel aus alten Konservendosen. \nAnmel­dung erforderlich!  \nBit­te einen klei­nen Nach­mit­tags­snack sowie Klei­dung\, die schmut­zig wer­den darf\, mitbringen. \n 
URL:https://fischereimuseum-bergheim.de/event/ferienprogramm-was-summt-denn-da-2/
LOCATION:Fische­rei­mu­se­um\, NACHTIGALLENWEG 39\, TROISDORF\, Nordrhein-Westfalen\, 53844\, Deutschland
CATEGORIES:Ferienprogramm
ORGANIZER;CN="Fischereimuseum":MAILTO:info@fischereimuseum-bergheim-sieg.de
END:VEVENT
BEGIN:VEVENT
DTSTART;TZID=Europe/Berlin:20200728T100000
DTEND;TZID=Europe/Berlin:20200728T123000
DTSTAMP:20260422T151912
CREATED:20200706T081359Z
LAST-MODIFIED:20200720T081358Z
UID:1642-1595930400-1595939400@fischereimuseum-bergheim.de
SUMMARY:FERIENPROGRAMM - Blumen in der Aue - AUSGEBUCHT
DESCRIPTION:Feri­en­pro­gramm\n10.00 – 12.30 Uhr\n15\,00 € incl. Material \nHeu­te schau­en wir uns die Pflan­zen­welt in der Sie­gaue genau­er an.\nWel­che Blu­men blü­hen hier?\nAus eini­gen Blü­ten bas­teln wir tol­le Salzteig-Mobiles. \nAnmel­dung erforderlich! \nBit­te ein klei­nes Früh­stück sowie Klei­dung\, die schmut­zig wer­den darf\, mitbringen.
URL:https://fischereimuseum-bergheim.de/event/ferienprogramm-blumen-in-der-aue/
LOCATION:Fische­rei­mu­se­um\, NACHTIGALLENWEG 39\, TROISDORF\, Nordrhein-Westfalen\, 53844\, Deutschland
CATEGORIES:Ferienprogramm
ORGANIZER;CN="Fischereimuseum":MAILTO:info@fischereimuseum-bergheim-sieg.de
END:VEVENT
BEGIN:VEVENT
DTSTART;TZID=Europe/Berlin:20200729T100000
DTEND;TZID=Europe/Berlin:20200729T123000
DTSTAMP:20260422T151912
CREATED:20200706T082457Z
LAST-MODIFIED:20200720T083124Z
UID:1650-1596016800-1596025800@fischereimuseum-bergheim.de
SUMMARY:FERIENPROGRAMM - Experimente mit Wasser - AUSGEBUCHT
DESCRIPTION:Feri­en­pro­gramm\n10.00 – 12.30 Uhr\n15\,00 € incl. Material \nDu möch­test ger­ne sel­ber Expe­ri­men­te in einem Labor durchführen?\nDann bist du in unse­rem Schü­ler­la­bor genau richtig!\nHeu­te gehst du den Eigen­schaf­ten des Was­sers auf den Grund und bas­telst ein Expe­ri­ment zum Mitnehmen. \nAnmel­dung erforderlich!  \nAuf­grund der hohen Nach­fra­ge bie­ten wir die­sen Feri­en­pro­gramm­punkt auch am Nach­mit­tag von 14:00 — 16:30 Uhr an. \nBit­te ein klei­nes Früh­stück sowie Klei­dung\, die schmut­zig wer­den darf\, mitbringen.
URL:https://fischereimuseum-bergheim.de/event/ferienprogramm-experimente-mit-wasser/
LOCATION:Fische­rei­mu­se­um\, NACHTIGALLENWEG 39\, TROISDORF\, Nordrhein-Westfalen\, 53844\, Deutschland
CATEGORIES:Ferienprogramm
ORGANIZER;CN="Fischereimuseum":MAILTO:info@fischereimuseum-bergheim-sieg.de
END:VEVENT
BEGIN:VEVENT
DTSTART;TZID=Europe/Berlin:20200729T140000
DTEND;TZID=Europe/Berlin:20200729T163000
DTSTAMP:20260422T151912
CREATED:20200720T082924Z
LAST-MODIFIED:20200720T083626Z
UID:1765-1596031200-1596040200@fischereimuseum-bergheim.de
SUMMARY:FERIENPROGRAMM - Experimente mit Wasser - NOCH FREIE PLÄTZE
DESCRIPTION:Feri­en­pro­gramm\n14.00 – 16.30 Uhr\n15\,00 € incl. Material \nDu möch­test ger­ne sel­ber Expe­ri­men­te in einem Labor durchführen?\nDann bist du in unse­rem Schü­ler­la­bor genau richtig!\nHeu­te gehst du den Eigen­schaf­ten des Was­sers auf den Grund und bas­telst ein Expe­ri­ment zum Mitnehmen. \nAnmel­dung erforderlich!  \nBit­te einen klei­nen Snack sowie Klei­dung\, die schmut­zig wer­den darf\, mitbringen.
URL:https://fischereimuseum-bergheim.de/event/ferienprogramm-experimente-mit-wasser-2/
LOCATION:Fische­rei­mu­se­um\, NACHTIGALLENWEG 39\, TROISDORF\, Nordrhein-Westfalen\, 53844\, Deutschland
CATEGORIES:Ferienprogramm
ORGANIZER;CN="Fischereimuseum":MAILTO:info@fischereimuseum-bergheim-sieg.de
END:VEVENT
BEGIN:VEVENT
DTSTART;TZID=Europe/Berlin:20200730T100000
DTEND;TZID=Europe/Berlin:20200730T123000
DTSTAMP:20260422T151912
CREATED:20200706T082916Z
LAST-MODIFIED:20200720T083402Z
UID:1654-1596103200-1596112200@fischereimuseum-bergheim.de
SUMMARY:FERIENPROGRAMM - Aquarium bauen - AUSGEBUCHT
DESCRIPTION:Feri­en­pro­gramm\n10.00 – 12.30 Uhr\n15\,00 € incl. Material \nIm Muse­um ste­hen eini­ge Aqua­ri­en mit Fischen\, die uns ein Vor­bild sein sollen.\nAus einem Kar­ton baut jedes Kind sein eige­nes Aqua­ri­um zum Mitnehmen. \nAnmel­dung erforderlich!  \nAuf­grund der hohen Nach­fra­ge bie­ten wir die­sen Feri­en­pro­gramm­punkt auch am Nach­mit­tag von 14:00 — 16:30 Uhr an \nBit­te ein klei­nes Früh­stück sowie Klei­dung\, die schmut­zig wer­den darf\, mitbringen.
URL:https://fischereimuseum-bergheim.de/event/ferienprogramm-aquarium-bauen/
LOCATION:Fische­rei­mu­se­um\, NACHTIGALLENWEG 39\, TROISDORF\, Nordrhein-Westfalen\, 53844\, Deutschland
CATEGORIES:Ferienprogramm
ORGANIZER;CN="Fischereimuseum":MAILTO:info@fischereimuseum-bergheim-sieg.de
END:VEVENT
BEGIN:VEVENT
DTSTART;TZID=Europe/Berlin:20200730T140000
DTEND;TZID=Europe/Berlin:20200730T163000
DTSTAMP:20260422T151912
CREATED:20200720T083454Z
LAST-MODIFIED:20200720T083654Z
UID:1770-1596117600-1596126600@fischereimuseum-bergheim.de
SUMMARY:FERIENPROGRAMM - Aquarium bauen
DESCRIPTION:Feri­en­pro­gramm\n14.00 – 16.30 Uhr\n15\,00 € incl. Material \nIm Muse­um ste­hen eini­ge Aqua­ri­en mit Fischen\, die uns ein Vor­bild sein sollen.\nAus einem Kar­ton baut jedes Kind sein eige­nes Aqua­ri­um zum Mitnehmen. \nAnmel­dung erforderlich!  \nBit­te einen klei­nen Snack sowie Klei­dung\, die schmut­zig wer­den darf\, mitbringen.
URL:https://fischereimuseum-bergheim.de/event/ferienprogramm-aquarium-bauen-2/
LOCATION:Fische­rei­mu­se­um\, NACHTIGALLENWEG 39\, TROISDORF\, Nordrhein-Westfalen\, 53844\, Deutschland
CATEGORIES:Ferienprogramm
ORGANIZER;CN="Fischereimuseum":MAILTO:info@fischereimuseum-bergheim-sieg.de
END:VEVENT
BEGIN:VEVENT
DTSTART;TZID=Europe/Berlin:20200731T100000
DTEND;TZID=Europe/Berlin:20200731T123000
DTSTAMP:20260422T151912
CREATED:20200706T090005Z
LAST-MODIFIED:20200720T081442Z
UID:1656-1596189600-1596198600@fischereimuseum-bergheim.de
SUMMARY:FERIENPROGRAMM - Eine Reise zu den Indianern - AUSGEBUCHT
DESCRIPTION:Feri­en­pro­gramm\n10.00 – 12.30 Uhr\n15\,00 € incl. Material \nHeu­te sind wir Indianer!\nWir bau­en unse­re eige­nen Spee­re\, klei­ne Tipis und Holz-Mandalas. \nAnmel­dung erforderlich!\nAuf­grund der hohen Nach­fra­ge bie­ten wir die­sen Feri­en­pro­gramm­punkt auch am Nach­mit­tag an. \nBit­te ein klei­nes Früh­stück sowie Klei­dung\, die schmut­zig wer­den darf\, mitbringen.
URL:https://fischereimuseum-bergheim.de/event/ferienprogramm-eine-reise-zu-den-indianern/
LOCATION:Fische­rei­mu­se­um\, NACHTIGALLENWEG 39\, TROISDORF\, Nordrhein-Westfalen\, 53844\, Deutschland
CATEGORIES:Ferienprogramm
ORGANIZER;CN="Fischereimuseum":MAILTO:info@fischereimuseum-bergheim-sieg.de
END:VEVENT
BEGIN:VEVENT
DTSTART;TZID=Europe/Berlin:20200731T140000
DTEND;TZID=Europe/Berlin:20200731T163000
DTSTAMP:20260422T151912
CREATED:20200706T090117Z
LAST-MODIFIED:20200720T081532Z
UID:1658-1596204000-1596213000@fischereimuseum-bergheim.de
SUMMARY:FERIENPROGRAMM - Eine Reise zu den Indianern - AUSGEBUCHT
DESCRIPTION:Feri­en­pro­gramm\n14.00 – 16.30 Uhr\n15\,00 € incl. Material \nHeu­te sind wir Indianer!\nWir bau­en unse­re eige­nen Spee­re\, klei­ne Tipis und Holz-Mandalas. \nAnmel­dung erforderlich!  \nBit­te einen klei­nen Nach­mit­tags­snack sowie Klei­dung\, die schmut­zig wer­den darf\, mitbringen.
URL:https://fischereimuseum-bergheim.de/event/ferienprogramm-eine-reise-zu-den-indianern-2/
LOCATION:Fische­rei­mu­se­um\, NACHTIGALLENWEG 39\, TROISDORF\, Nordrhein-Westfalen\, 53844\, Deutschland
CATEGORIES:Ferienprogramm
ORGANIZER;CN="Fischereimuseum":MAILTO:info@fischereimuseum-bergheim-sieg.de
END:VEVENT
END:VCALENDAR