BEGIN:VCALENDAR
VERSION:2.0
PRODID:-//Fischereimuseum Bergheim/Sieg - ECPv6.15.20//NONSGML v1.0//EN
CALSCALE:GREGORIAN
METHOD:PUBLISH
X-ORIGINAL-URL:https://fischereimuseum-bergheim.de
X-WR-CALDESC:Veranstaltungen für Fischereimuseum Bergheim/Sieg
REFRESH-INTERVAL;VALUE=DURATION:PT1H
X-Robots-Tag:noindex
X-PUBLISHED-TTL:PT1H
BEGIN:VTIMEZONE
TZID:Europe/Berlin
BEGIN:DAYLIGHT
TZOFFSETFROM:+0100
TZOFFSETTO:+0200
TZNAME:CEST
DTSTART:20190331T010000
END:DAYLIGHT
BEGIN:STANDARD
TZOFFSETFROM:+0200
TZOFFSETTO:+0100
TZNAME:CET
DTSTART:20191027T010000
END:STANDARD
BEGIN:DAYLIGHT
TZOFFSETFROM:+0100
TZOFFSETTO:+0200
TZNAME:CEST
DTSTART:20200329T010000
END:DAYLIGHT
BEGIN:STANDARD
TZOFFSETFROM:+0200
TZOFFSETTO:+0100
TZNAME:CET
DTSTART:20201025T010000
END:STANDARD
BEGIN:DAYLIGHT
TZOFFSETFROM:+0100
TZOFFSETTO:+0200
TZNAME:CEST
DTSTART:20210328T010000
END:DAYLIGHT
BEGIN:STANDARD
TZOFFSETFROM:+0200
TZOFFSETTO:+0100
TZNAME:CET
DTSTART:20211031T010000
END:STANDARD
END:VTIMEZONE
BEGIN:VEVENT
DTSTART;TZID=Europe/Berlin:20200507T190000
DTEND;TZID=Europe/Berlin:20200507T210000
DTSTAMP:20260422T175857
CREATED:20200106T140304Z
LAST-MODIFIED:20200106T140304Z
UID:1208-1588878000-1588885200@fischereimuseum-bergheim.de
SUMMARY:Die bunte Welt der Livemusik - „Ohne Filter“ – Hits in ihrer reinsten Form
DESCRIPTION:Wegen des gro­ßen Erfolgs im Vor­jahr wie­der bei uns:\nDas Trio „Ohne Fil­ter“. Ob Bal­la­de oder Rock-Song\, die meis­ten Titel der letz­ten Jahr­zehn­te sind auf Basis eines\nein­zi­gen Instru­men­tes (Gitar­re oder Pia­no) ent­stan­den. Danach wur­den die­se Songs mit Hil­fe zahl­rei­cher weiterer\nInstru­men­te „aus­ge­baut“.\nOb Bal­la­de oder Rock­song: Mit dem Trio „Ohne Fil­ter“ (Beset­zung: Cachon\, Gitar­re\, Bass und Gesang) wer­den Sie die Songs in ihrer\nursprüng­li­chen Form genießen. \n19.00 – ca. 21.00 Uhr | Ein­tritt 12\,00 €\nReser­vie­run­gen unter\nkarte.reservieren@web.de oder Tele­fon 0228–4798079
URL:https://fischereimuseum-bergheim.de/event/die-bunte-welt-der-livemusik-ohne-filter-hits-in-ihrer-reinsten-form/
CATEGORIES:Konzerte
END:VEVENT
BEGIN:VEVENT
DTSTART;TZID=Europe/Berlin:20200517T110000
DTEND;TZID=Europe/Berlin:20200517T130000
DTSTAMP:20260422T175857
CREATED:20200106T154938Z
LAST-MODIFIED:20200106T154938Z
UID:1267-1589713200-1589720400@fischereimuseum-bergheim.de
SUMMARY:Vernissage - Farbklang und Raumfülle
DESCRIPTION:Skulp­tu­ren und Bil­der von Fischen und ande­rem Aus­stel­lung von Hel­ga Ros­tock und Hei­de Ludowig \nHel­ga Ros­tock ist aus­ge­bil­de­te Kera­mi­ke­rin und Bild­haue­rin. Sie gestal­tet Skulp­tu­ren und Objek­te bei weitgehender\nRedu­zie­rung von for­ma­len Elementen. \nHei­de Ludo­wig gehört zu den „Spät­be­ru­fe­nen“ in der Kunst und arbei­tet mit ver­schie­de­nen Techniken.\nIm Mit­tel­punkt der Aus­stel­lung ste­hen Was­ser- und Fischbilder. \nMit den Fisch­skulp­tu­ren von Frau Ros­tock kön­nen Sie auch ihren Gar­ten verschönern. \nDie Ver­nis­sa­ge fin­det am 17. Mai 2020 um 11.00 Uhr statt.\nDie Aus­stel­lung ist bis Ende August 2020 wäh­rend der Öff­nungs­zei­ten zu sehen.
URL:https://fischereimuseum-bergheim.de/event/vernissage-farbklang-und-raumfuelle/
CATEGORIES:Ausstellung
END:VEVENT
END:VCALENDAR