BEGIN:VCALENDAR
VERSION:2.0
PRODID:-//Fischereimuseum Bergheim/Sieg - ECPv6.15.20//NONSGML v1.0//EN
CALSCALE:GREGORIAN
METHOD:PUBLISH
X-WR-CALNAME:Fischereimuseum Bergheim/Sieg
X-ORIGINAL-URL:https://fischereimuseum-bergheim.de
X-WR-CALDESC:Veranstaltungen für Fischereimuseum Bergheim/Sieg
REFRESH-INTERVAL;VALUE=DURATION:PT1H
X-Robots-Tag:noindex
X-PUBLISHED-TTL:PT1H
BEGIN:VTIMEZONE
TZID:Europe/Berlin
BEGIN:DAYLIGHT
TZOFFSETFROM:+0100
TZOFFSETTO:+0200
TZNAME:CEST
DTSTART:20190331T010000
END:DAYLIGHT
BEGIN:STANDARD
TZOFFSETFROM:+0200
TZOFFSETTO:+0100
TZNAME:CET
DTSTART:20191027T010000
END:STANDARD
BEGIN:DAYLIGHT
TZOFFSETFROM:+0100
TZOFFSETTO:+0200
TZNAME:CEST
DTSTART:20200329T010000
END:DAYLIGHT
BEGIN:STANDARD
TZOFFSETFROM:+0200
TZOFFSETTO:+0100
TZNAME:CET
DTSTART:20201025T010000
END:STANDARD
BEGIN:DAYLIGHT
TZOFFSETFROM:+0100
TZOFFSETTO:+0200
TZNAME:CEST
DTSTART:20210328T010000
END:DAYLIGHT
BEGIN:STANDARD
TZOFFSETFROM:+0200
TZOFFSETTO:+0100
TZNAME:CET
DTSTART:20211031T010000
END:STANDARD
END:VTIMEZONE
BEGIN:VEVENT
DTSTART;TZID=Europe/Berlin:20200126T000000
DTEND;TZID=Europe/Berlin:20200419T000000
DTSTAMP:20260422T220430
CREATED:20200106T154432Z
LAST-MODIFIED:20200106T155013Z
UID:1263-1579996800-1587254400@fischereimuseum-bergheim.de
SUMMARY:Ausstellung - „Bäume\, Begleiter in guten und in schlechten Tagen“
DESCRIPTION:Aus­stel­lung von Gabi Jahn \nGabi Jahn stu­dier­te an den Köl­ner Werk­schu­len und unter­rich­te­te Kunst\, ver­lor ihre eige­nen künstlerischen\nPro­jek­te aber nie aus den Augen. Sie ist viel­sei­tig inter­es­siert\, wid­met sich der Aqua­rell­ma­le­rei\, zeichnet\,\nfoto­gra­fiert und gestal­tet mit Ton. \nDie Aus­stel­lung ist bis zum 19. April 2020 wäh­rend der Öff­nungs­zei­ten zu sehen.
URL:https://fischereimuseum-bergheim.de/event/ausstellung-baeume-begleiter-in-guten-und-in-schlechten-tagen-2/
CATEGORIES:Ausstellung
END:VEVENT
BEGIN:VEVENT
DTSTART;TZID=Europe/Berlin:20200305T190000
DTEND;TZID=Europe/Berlin:20200305T210000
DTSTAMP:20260422T220430
CREATED:20200106T135930Z
LAST-MODIFIED:20200106T140013Z
UID:1206-1583434800-1583442000@fischereimuseum-bergheim.de
SUMMARY:Die bunte Welt der Livemusik - Heimpel – Eine Liedermacherei
DESCRIPTION:Nach 2017 gas­tie­ren „Heim­pel“ wie­der bei uns.\nMal fran­zö­sisch\, mal ita­lie­nisch\, meis­tens deutsch: So abwechs­lungs­reich wie die Klang­far­be ihrer Instrumente\n(Gitar­re\, Gei­ge\, Akkor­de­on\, Uku­le­le) sind die Tex­te und Melo­dien des Trios.\nEine Mischung aus Folk\, Coun­try\, Chan­son. Anrüh­rend\, lus­tig\, unterhaltsam. \n19.00 – ca. 21.00 Uhr | Ein­tritt 12\,00 €\nReser­vie­run­gen unter\nkarte.reservieren@web.de oder Tele­fon 0228–4798079
URL:https://fischereimuseum-bergheim.de/event/die-bunte-welt-der-livemusik-heimpel-eine-liedermacherei/
CATEGORIES:Konzerte
END:VEVENT
BEGIN:VEVENT
DTSTART;TZID=Europe/Berlin:20200326T190000
DTEND;TZID=Europe/Berlin:20200326T203000
DTSTAMP:20260422T220430
CREATED:20200106T153129Z
LAST-MODIFIED:20200106T153129Z
UID:1256-1585249200-1585254600@fischereimuseum-bergheim.de
SUMMARY:Winter auf den Lofoten
DESCRIPTION:AV-Show von Sabi­ne und Dr. Gerard Klinke \nEs muss nicht immer Ski­fah­ren in den Alpen sein — der Win­ter in den ark­ti­schen Regio­nen an Nor­we­gens Küs­te ist sehr fotogen\nund erstaun­lich ange­nehm: wei­ße\, gran­dio­se Land­schaf­ten\, klei­ne gemüt­li­che Dör­fer\, quir­li­ge Klein­städ­te am Meer\, Wel­len­rei­ten an Europas\nnörd­lichs­tem Wel­len­strand\, Polar­licht und vie­les mehr.\nDie Rück­fahrt nach Ber­gen mit Hur­tig­ru­ten und mit der Ber­gen­bahn nach Oslo bie­tet dann erneut unver­gess­li­che Eindrücke. \n19.00 Uhr – ca. 20.30 Uhr\nEin­tritt € 5\,00 | Kin­der € 2\,50
URL:https://fischereimuseum-bergheim.de/event/winter-auf-den-lofoten/
CATEGORIES:Vorträge
ORGANIZER;CN="Fischereimuseum":MAILTO:info@fischereimuseum-bergheim-sieg.de
END:VEVENT
BEGIN:VEVENT
DTSTART;TZID=Europe/Berlin:20200328T080000
DTEND;TZID=Europe/Berlin:20200328T093000
DTSTAMP:20260422T220430
CREATED:20200106T152815Z
LAST-MODIFIED:20200106T152815Z
UID:1254-1585382400-1585387800@fischereimuseum-bergheim.de
SUMMARY:Vogelexkursion im Frühling
DESCRIPTION:Füh­rung durch die Sie­gaue mit dem Vogel­kund­ler Franz Over.\nAnschlie­ßend gemein­sa­mes Früh­stück im Museum \nKos­ten: 12\,00 € pro Per­son | Kin­der bis 12 Jah­re: 8\,00 €\n \nAnmel­dung erwünscht !
URL:https://fischereimuseum-bergheim.de/event/vogelexkursion/
CATEGORIES:Aktionen,Wanderungen
END:VEVENT
END:VCALENDAR