BEGIN:VCALENDAR
VERSION:2.0
PRODID:-//Fischereimuseum Bergheim/Sieg - ECPv6.15.20//NONSGML v1.0//EN
CALSCALE:GREGORIAN
METHOD:PUBLISH
X-ORIGINAL-URL:https://fischereimuseum-bergheim.de
X-WR-CALDESC:Veranstaltungen für Fischereimuseum Bergheim/Sieg
REFRESH-INTERVAL;VALUE=DURATION:PT1H
X-Robots-Tag:noindex
X-PUBLISHED-TTL:PT1H
BEGIN:VTIMEZONE
TZID:Europe/Berlin
BEGIN:DAYLIGHT
TZOFFSETFROM:+0100
TZOFFSETTO:+0200
TZNAME:CEST
DTSTART:20190331T010000
END:DAYLIGHT
BEGIN:STANDARD
TZOFFSETFROM:+0200
TZOFFSETTO:+0100
TZNAME:CET
DTSTART:20191027T010000
END:STANDARD
BEGIN:DAYLIGHT
TZOFFSETFROM:+0100
TZOFFSETTO:+0200
TZNAME:CEST
DTSTART:20200329T010000
END:DAYLIGHT
BEGIN:STANDARD
TZOFFSETFROM:+0200
TZOFFSETTO:+0100
TZNAME:CET
DTSTART:20201025T010000
END:STANDARD
BEGIN:DAYLIGHT
TZOFFSETFROM:+0100
TZOFFSETTO:+0200
TZNAME:CEST
DTSTART:20210328T010000
END:DAYLIGHT
BEGIN:STANDARD
TZOFFSETFROM:+0200
TZOFFSETTO:+0100
TZNAME:CET
DTSTART:20211031T010000
END:STANDARD
END:VTIMEZONE
BEGIN:VEVENT
DTSTART;TZID=Europe/Berlin:20200823T110000
DTEND;TZID=Europe/Berlin:20201115T000000
DTSTAMP:20260424T110931
CREATED:20200106T155320Z
LAST-MODIFIED:20200706T095013Z
UID:1268-1598180400-1605398400@fischereimuseum-bergheim.de
SUMMARY:Ausstellung - Farbklang und Raumfülle
DESCRIPTION:Skulp­tu­ren und Bil­der von Fischen und ande­rem Aus­stel­lung von Hel­ga Ros­tock und Hei­de Ludowig \nHel­ga Ros­tock ist aus­ge­bil­de­te Kera­mi­ke­rin und Bildhauerin.\nSie gestal­tet Skulp­tu­ren und Objek­te bei weit­ge­hen­der Redu­zie­rung von for­ma­len Elementen. \nHei­de Ludo­wig gehört zu den „Spät­be­ru­fe­nen“ in der Kunst und arbei­tet mit ver­schie­de­nen Techniken.\nIm Mit­tel­punkt der Aus­stel­lung ste­hen Was­ser- und Fischbilder. \nMit den Fisch­skulp­tu­ren von Frau Ros­tock kön­nen Sie auch ihren Gar­ten verschönern. \nDie Ver­nis­sa­ge fin­det am 23. August 2020 um 11:00 Uhr statt.\nDie Aus­stel­lung ist bis Mit­te Novem­ber 2020 wäh­rend der Öff­nungs­zei­ten zu sehen.
URL:https://fischereimuseum-bergheim.de/event/ausstellung-farbklang-und-raumfuelle/
CATEGORIES:Ausstellung
END:VEVENT
BEGIN:VEVENT
DTSTART;TZID=Europe/Berlin:20201016T180000
DTEND;TZID=Europe/Berlin:20201016T203000
DTSTAMP:20260424T110931
CREATED:20200706T094412Z
LAST-MODIFIED:20200706T094412Z
UID:1696-1602871200-1602880200@fischereimuseum-bergheim.de
SUMMARY:FERIENPROGRAMM - Jäger der Nacht
DESCRIPTION:Feri­en­pro­gramm\nOffe­ner FIN­NE-Work­shop — in Zusam­men­ar­beit mit dem BAFF — Bon­ner Arbeits­kreis Für Fledermausschutz \n18:00 – 20:30 Uhr\n5\,00 € Spen­de an das Muse­um sind erwünscht \nErnäh­ren sich Fle­der­mäu­se tat­säch­lich von Blut?\nWie kön­nen sie im Dun­keln sehen?\nUnd wo woh­nen sie bei uns?\nDie­sen und wei­te­ren Fra­gen gehen wir bei einer span­nen­den Ral­lye durchs Muse­um auf den Grund.\nAußer­dem wol­len wir uns nach Son­nen­un­ter­gang in die Sie­gaue wagen\,\ndie Rufe der Fle­der­mäu­se hör­bar machen und ihre Flug­küns­te beobachten.\nEine Bas­tel­ak­ti­on run­det das Pro­gramm ab. \nAnmel­dung erforderlich! \nBit­te einen klei­nen Abends­nack sowie Klei­dung\, die schmut­zig wer­den darf\, mitbringen. \n 
URL:https://fischereimuseum-bergheim.de/event/ferienprogramm-jaeger-der-nacht/
LOCATION:Fische­rei­mu­se­um\, NACHTIGALLENWEG 39\, TROISDORF\, Nordrhein-Westfalen\, 53844\, Deutschland
CATEGORIES:Ferienprogramm
ORGANIZER;CN="Fischereimuseum":MAILTO:info@fischereimuseum-bergheim-sieg.de
END:VEVENT
END:VCALENDAR