BEGIN:VCALENDAR
VERSION:2.0
PRODID:-//Fischereimuseum Bergheim/Sieg - ECPv6.15.20//NONSGML v1.0//EN
CALSCALE:GREGORIAN
METHOD:PUBLISH
X-WR-CALNAME:Fischereimuseum Bergheim/Sieg
X-ORIGINAL-URL:https://fischereimuseum-bergheim.de
X-WR-CALDESC:Veranstaltungen für Fischereimuseum Bergheim/Sieg
REFRESH-INTERVAL;VALUE=DURATION:PT1H
X-Robots-Tag:noindex
X-PUBLISHED-TTL:PT1H
BEGIN:VTIMEZONE
TZID:Europe/Berlin
BEGIN:DAYLIGHT
TZOFFSETFROM:+0100
TZOFFSETTO:+0200
TZNAME:CEST
DTSTART:20190331T010000
END:DAYLIGHT
BEGIN:STANDARD
TZOFFSETFROM:+0200
TZOFFSETTO:+0100
TZNAME:CET
DTSTART:20191027T010000
END:STANDARD
BEGIN:DAYLIGHT
TZOFFSETFROM:+0100
TZOFFSETTO:+0200
TZNAME:CEST
DTSTART:20200329T010000
END:DAYLIGHT
BEGIN:STANDARD
TZOFFSETFROM:+0200
TZOFFSETTO:+0100
TZNAME:CET
DTSTART:20201025T010000
END:STANDARD
BEGIN:DAYLIGHT
TZOFFSETFROM:+0100
TZOFFSETTO:+0200
TZNAME:CEST
DTSTART:20210328T010000
END:DAYLIGHT
BEGIN:STANDARD
TZOFFSETFROM:+0200
TZOFFSETTO:+0100
TZNAME:CET
DTSTART:20211031T010000
END:STANDARD
END:VTIMEZONE
BEGIN:VEVENT
DTSTART;TZID=Europe/Berlin:20200805T100000
DTEND;TZID=Europe/Berlin:20200805T123000
DTSTAMP:20260422T152938
CREATED:20200706T091313Z
LAST-MODIFIED:20200720T083844Z
UID:1664-1596621600-1596630600@fischereimuseum-bergheim.de
SUMMARY:FERIENPROGRAMM - Fische filzen - noch 3 Plätze frei
DESCRIPTION:Feri­en­pro­gramm\n10.00 – 12.30 Uhr\n15\,00 € incl. Material \nDie Tech­nik des Nass­fil­zens lernt ihr bei der Her­stel­lung klei­ner Filzobjekte.\nAus kun­ter­bun­ter Mär­chen­wol­le ent­ste­hen Zau­ber­ku­geln und klei­ne Fische. \nAnmel­dung erfor­der­lich! — NOCH 3 PLÄTZE verfügbar \nBit­te ein klei­nes Früh­stück sowie Klei­dung\, die schmut­zig wer­den darf\, mitbringen.
URL:https://fischereimuseum-bergheim.de/event/ferienprogramm-fische-filzen-2/
LOCATION:Fische­rei­mu­se­um\, NACHTIGALLENWEG 39\, TROISDORF\, Nordrhein-Westfalen\, 53844\, Deutschland
CATEGORIES:Ferienprogramm
ORGANIZER;CN="Fischereimuseum":MAILTO:info@fischereimuseum-bergheim-sieg.de
END:VEVENT
END:VCALENDAR