BEGIN:VCALENDAR
VERSION:2.0
PRODID:-//Fischereimuseum Bergheim/Sieg - ECPv6.15.20//NONSGML v1.0//EN
CALSCALE:GREGORIAN
METHOD:PUBLISH
X-WR-CALNAME:Fischereimuseum Bergheim/Sieg
X-ORIGINAL-URL:https://fischereimuseum-bergheim.de
X-WR-CALDESC:Veranstaltungen für Fischereimuseum Bergheim/Sieg
REFRESH-INTERVAL;VALUE=DURATION:PT1H
X-Robots-Tag:noindex
X-PUBLISHED-TTL:PT1H
BEGIN:VTIMEZONE
TZID:Europe/Berlin
BEGIN:DAYLIGHT
TZOFFSETFROM:+0100
TZOFFSETTO:+0200
TZNAME:CEST
DTSTART:20190331T010000
END:DAYLIGHT
BEGIN:STANDARD
TZOFFSETFROM:+0200
TZOFFSETTO:+0100
TZNAME:CET
DTSTART:20191027T010000
END:STANDARD
BEGIN:DAYLIGHT
TZOFFSETFROM:+0100
TZOFFSETTO:+0200
TZNAME:CEST
DTSTART:20200329T010000
END:DAYLIGHT
BEGIN:STANDARD
TZOFFSETFROM:+0200
TZOFFSETTO:+0100
TZNAME:CET
DTSTART:20201025T010000
END:STANDARD
BEGIN:DAYLIGHT
TZOFFSETFROM:+0100
TZOFFSETTO:+0200
TZNAME:CEST
DTSTART:20210328T010000
END:DAYLIGHT
BEGIN:STANDARD
TZOFFSETFROM:+0200
TZOFFSETTO:+0100
TZNAME:CET
DTSTART:20211031T010000
END:STANDARD
END:VTIMEZONE
BEGIN:VEVENT
DTSTART;TZID=Europe/Berlin:20200425T140000
DTEND;TZID=Europe/Berlin:20200425T174500
DTSTAMP:20260422T205110
CREATED:20200106T145636Z
LAST-MODIFIED:20200106T150527Z
UID:1241-1587823200-1587836700@fischereimuseum-bergheim.de
SUMMARY:Kräuterwanderung mit Kostproben aus der Wildkräuterküche
DESCRIPTION:Die VHS für Trois­dorf und Nie­der­kas­sel zu Gast im Fische­rei­mu­se­um Bergheim: \nDia­na Wenk-Fritsch \n„Im Herbst sam­mel­te ich alle mei­ne Sor­gen und ver­grub sie in mei­nem Gar­ten. Als der Früh­ling wie­der­kehr­te – im April – um die Erde zu heiraten\,\nda wuch­sen in mei­nem Gar­ten schö­ne Blu­men.“ (Kha­lil Gibran\, 1883–1931) \nBei die­ser Hoch­zeit fei­ern wir ger­ne mit und schau­en die Blu­men und Kräu­ter\, die nicht nur im Gar­ten\, son­dern sich auch am Weges­rand wachsen\,\ngenau­er an. Zur Hoch­zeit kommt nur das Bes­te auf die Tafel. Mit Wild­kräu­tern las­sen sich lukul­li­sche Köst­lich­kei­ten zaubern.\nNach einer Run­de durch die Sie­gaue\, berei­ten wir einen opu­len­ten Wild­kräu­ter-Imbiss zu. \nDie Wan­de­rung fin­det bei jedem Wet­ter statt.\nBit­te ach­ten Sie auf geeig­ne­te Klei­dung und Schuh­werk und brin­gen Sie Küchen­tü­cher und evtl. eine Schür­ze mit. \n14.00 – 17.45 Uhr | Kos­ten 22\,30 € \nAnmel­dung über die VHS Trois­dorf und Niederkassel \nTele­fon: 02241 874433 oder E‑Mail: anmeldung@vhs-tdf-ndk.de
URL:https://fischereimuseum-bergheim.de/event/kraeuterwanderung-mit-kostproben-aus-der-wildkraeuterkueche-2/
CATEGORIES:VHS zu Gast
ORGANIZER;CN="vhs Troisdorf und Niederkassel":MAILTO:anmeldung@vhs-tdf-ndk.de
END:VEVENT
END:VCALENDAR