BEGIN:VCALENDAR
VERSION:2.0
PRODID:-//Fischereimuseum Bergheim/Sieg - ECPv6.15.20//NONSGML v1.0//EN
CALSCALE:GREGORIAN
METHOD:PUBLISH
X-ORIGINAL-URL:https://fischereimuseum-bergheim.de
X-WR-CALDESC:Veranstaltungen für Fischereimuseum Bergheim/Sieg
REFRESH-INTERVAL;VALUE=DURATION:PT1H
X-Robots-Tag:noindex
X-PUBLISHED-TTL:PT1H
BEGIN:VTIMEZONE
TZID:Europe/Berlin
BEGIN:DAYLIGHT
TZOFFSETFROM:+0100
TZOFFSETTO:+0200
TZNAME:CEST
DTSTART:20190331T010000
END:DAYLIGHT
BEGIN:STANDARD
TZOFFSETFROM:+0200
TZOFFSETTO:+0100
TZNAME:CET
DTSTART:20191027T010000
END:STANDARD
BEGIN:DAYLIGHT
TZOFFSETFROM:+0100
TZOFFSETTO:+0200
TZNAME:CEST
DTSTART:20200329T010000
END:DAYLIGHT
BEGIN:STANDARD
TZOFFSETFROM:+0200
TZOFFSETTO:+0100
TZNAME:CET
DTSTART:20201025T010000
END:STANDARD
BEGIN:DAYLIGHT
TZOFFSETFROM:+0100
TZOFFSETTO:+0200
TZNAME:CEST
DTSTART:20210328T010000
END:DAYLIGHT
BEGIN:STANDARD
TZOFFSETFROM:+0200
TZOFFSETTO:+0100
TZNAME:CET
DTSTART:20211031T010000
END:STANDARD
END:VTIMEZONE
BEGIN:VEVENT
DTSTART;TZID=Europe/Berlin:20200126T000000
DTEND;TZID=Europe/Berlin:20200419T000000
DTSTAMP:20260422T233202
CREATED:20200106T154432Z
LAST-MODIFIED:20200106T155013Z
UID:1263-1579996800-1587254400@fischereimuseum-bergheim.de
SUMMARY:Ausstellung - „Bäume\, Begleiter in guten und in schlechten Tagen“
DESCRIPTION:Aus­stel­lung von Gabi Jahn \nGabi Jahn stu­dier­te an den Köl­ner Werk­schu­len und unter­rich­te­te Kunst\, ver­lor ihre eige­nen künstlerischen\nPro­jek­te aber nie aus den Augen. Sie ist viel­sei­tig inter­es­siert\, wid­met sich der Aqua­rell­ma­le­rei\, zeichnet\,\nfoto­gra­fiert und gestal­tet mit Ton. \nDie Aus­stel­lung ist bis zum 19. April 2020 wäh­rend der Öff­nungs­zei­ten zu sehen.
URL:https://fischereimuseum-bergheim.de/event/ausstellung-baeume-begleiter-in-guten-und-in-schlechten-tagen-2/
CATEGORIES:Ausstellung
END:VEVENT
BEGIN:VEVENT
DTSTART;TZID=Europe/Berlin:20200207T190000
DTEND;TZID=Europe/Berlin:20200207T213000
DTSTAMP:20260422T233202
CREATED:20200106T145219Z
LAST-MODIFIED:20200106T145219Z
UID:1239-1581102000-1581111000@fischereimuseum-bergheim.de
SUMMARY:Taschenlampenführung: Nachts im Museum
DESCRIPTION:Ein ganz beson­de­res Aben­teu­er im Fischereimuseum \nMit Ein­bruch der Dun­kel­heit wird es span­nend und ein klei­nes biss­chen unheim­lich im Fischereimuseum:\nEnt­deckt mit Emil Eis­vo­gel und sei­nen Freun­den im Licht von Taschen­lam­pen das Muse­um\, fin­det den Schatz\,\nden die klei­ne Fle­der­maus ver­steckt hat und bas­telt ein Taschen­lam­pen­buch zum Mitnehmen. \nBit­te einen Imbiss und ger­ne eine Taschen­lam­pe mitbringen.\nFür Kin­der ab 7 Jah­re und Familien. \nDurch freund­li­che Unter­stüt­zung des Jugend­am­tes der Stadt Trois­dorf ist die­ses Ange­bot kostenfrei. \nAnmel­dung erforderlich !
URL:https://fischereimuseum-bergheim.de/event/taschenlampenfuehrung-nachts-im-museum/
CATEGORIES:Aktionen
END:VEVENT
END:VCALENDAR