BEGIN:VCALENDAR
VERSION:2.0
PRODID:-//Fischereimuseum Bergheim/Sieg - ECPv6.15.20//NONSGML v1.0//EN
CALSCALE:GREGORIAN
METHOD:PUBLISH
X-ORIGINAL-URL:https://fischereimuseum-bergheim.de
X-WR-CALDESC:Veranstaltungen für Fischereimuseum Bergheim/Sieg
REFRESH-INTERVAL;VALUE=DURATION:PT1H
X-Robots-Tag:noindex
X-PUBLISHED-TTL:PT1H
BEGIN:VTIMEZONE
TZID:Europe/Berlin
BEGIN:DAYLIGHT
TZOFFSETFROM:+0100
TZOFFSETTO:+0200
TZNAME:CEST
DTSTART:20190331T010000
END:DAYLIGHT
BEGIN:STANDARD
TZOFFSETFROM:+0200
TZOFFSETTO:+0100
TZNAME:CET
DTSTART:20191027T010000
END:STANDARD
BEGIN:DAYLIGHT
TZOFFSETFROM:+0100
TZOFFSETTO:+0200
TZNAME:CEST
DTSTART:20200329T010000
END:DAYLIGHT
BEGIN:STANDARD
TZOFFSETFROM:+0200
TZOFFSETTO:+0100
TZNAME:CET
DTSTART:20201025T010000
END:STANDARD
BEGIN:DAYLIGHT
TZOFFSETFROM:+0100
TZOFFSETTO:+0200
TZNAME:CEST
DTSTART:20210328T010000
END:DAYLIGHT
BEGIN:STANDARD
TZOFFSETFROM:+0200
TZOFFSETTO:+0100
TZNAME:CET
DTSTART:20211031T010000
END:STANDARD
END:VTIMEZONE
BEGIN:VEVENT
DTSTART;TZID=Europe/Berlin:20200125T100000
DTEND;TZID=Europe/Berlin:20200125T160000
DTSTAMP:20260423T020216
CREATED:20200106T150242Z
LAST-MODIFIED:20200106T152353Z
UID:1245-1579946400-1579968000@fischereimuseum-bergheim.de
SUMMARY:Eine entspannte Auszeit am Samstag: ZENbo® Balance und Klang
DESCRIPTION:Die VHS für Trois­dorf und Nie­der­kas­sel zu Gast im Fische­rei­mu­se­um Bergheim: \nEine ent­spann­te Aus­zeit am Sams­tag: ZEN­bo® Balan­ce und Klang \nKris­ti­na Beyer \nSchal­ten Sie für eini­ge Stun­den ab\, las­sen Sie die See­le bau­meln und ent­span­nen\, um neue Ener­gie für den Berufs­all­tag zu tanken.\nBit­te tra­gen Sie beque­me Klei­dung und brin­gen Sie eine leich­te Decke\, ein klei­nes Kis­sen sowie Anti-Rutschsocken\,\nmit. Klein­grup­pe\, max. 8 Teilnehmende \n10.00 – 16.00 Uhr | Kos­ten 32\,50 € \nAnmel­dung über die VHS Trois­dorf und Niederkassel \nTele­fon: 02241 874433 oder E‑Mail: anmeldung@vhs-tdf-ndk.de
URL:https://fischereimuseum-bergheim.de/event/eine-entspannte-auszeit-am-samstag/
CATEGORIES:VHS zu Gast
ORGANIZER;CN="vhs Troisdorf und Niederkassel":MAILTO:anmeldung@vhs-tdf-ndk.de
END:VEVENT
END:VCALENDAR