BEGIN:VCALENDAR
VERSION:2.0
PRODID:-//Fischereimuseum Bergheim/Sieg - ECPv6.15.20//NONSGML v1.0//EN
CALSCALE:GREGORIAN
METHOD:PUBLISH
X-WR-CALNAME:Fischereimuseum Bergheim/Sieg
X-ORIGINAL-URL:https://fischereimuseum-bergheim.de
X-WR-CALDESC:Veranstaltungen für Fischereimuseum Bergheim/Sieg
REFRESH-INTERVAL;VALUE=DURATION:PT1H
X-Robots-Tag:noindex
X-PUBLISHED-TTL:PT1H
BEGIN:VTIMEZONE
TZID:Europe/Berlin
BEGIN:DAYLIGHT
TZOFFSETFROM:+0100
TZOFFSETTO:+0200
TZNAME:CEST
DTSTART:20180325T010000
END:DAYLIGHT
BEGIN:STANDARD
TZOFFSETFROM:+0200
TZOFFSETTO:+0100
TZNAME:CET
DTSTART:20181028T010000
END:STANDARD
BEGIN:DAYLIGHT
TZOFFSETFROM:+0100
TZOFFSETTO:+0200
TZNAME:CEST
DTSTART:20190331T010000
END:DAYLIGHT
BEGIN:STANDARD
TZOFFSETFROM:+0200
TZOFFSETTO:+0100
TZNAME:CET
DTSTART:20191027T010000
END:STANDARD
BEGIN:DAYLIGHT
TZOFFSETFROM:+0100
TZOFFSETTO:+0200
TZNAME:CEST
DTSTART:20200329T010000
END:DAYLIGHT
BEGIN:STANDARD
TZOFFSETFROM:+0200
TZOFFSETTO:+0100
TZNAME:CET
DTSTART:20201025T010000
END:STANDARD
BEGIN:DAYLIGHT
TZOFFSETFROM:+0100
TZOFFSETTO:+0200
TZNAME:CEST
DTSTART:20210328T010000
END:DAYLIGHT
BEGIN:STANDARD
TZOFFSETFROM:+0200
TZOFFSETTO:+0100
TZNAME:CET
DTSTART:20211031T010000
END:STANDARD
END:VTIMEZONE
BEGIN:VEVENT
DTSTART;TZID=Europe/Berlin:20191027T110000
DTEND;TZID=Europe/Berlin:20200119T170000
DTSTAMP:20260424T141152
CREATED:20190711T135028Z
LAST-MODIFIED:20200106T154324Z
UID:996-1572174000-1579453200@fischereimuseum-bergheim.de
SUMMARY:Ausstellung „Wasser IM - AM – AUF – MIT“
DESCRIPTION:Aus­stel­lung „Was­ser IM — AM – AUF – MIT“\nFoto­club Trois­dorf e.V. im DFV \nWas­ser macht einen gro­ßen Teil des Pla­ne­ten mit­samt Flo­ra und Fau­na aus.\nWas liegt also näher\, als sich damit auch foto­gra­fisch aus­ein­an­der zu setzen.\nEs spen­det und ver­nich­tet Leben\, es erfreut und bedroht\, nimmt ver­schie­de­ne Aggre­gat­zu­stän­de an – kurz\, wir haben uns\nent­schlos­sen\, das The­ma weit zu fas­sen und so kön­nen Sie sich an Bil­dern aus einem gro­ßen Spek­trum erfreuen! \nDie Ver­nis­sa­ge fin­det am 27.10.2019 um 11.00 Uhr statt.
URL:https://fischereimuseum-bergheim.de/event/vernissage-vom-portrait-bis-zu-heimatimpressionen-2-2-2/
CATEGORIES:Ausstellung
END:VEVENT
BEGIN:VEVENT
DTSTART;TZID=Europe/Berlin:20191205T190000
DTEND;TZID=Europe/Berlin:20191205T210000
DTSTAMP:20260424T141152
CREATED:20190711T123418Z
LAST-MODIFIED:20190715T091942Z
UID:952-1575572400-1575579600@fischereimuseum-bergheim.de
SUMMARY:Die bunte Welt der Livemusik - Paul Radau: Mitsingkonzert zum Advent
DESCRIPTION:Übers Jahr spielt er zahl­lo­se Kon­zer­te mit den gro­ßen Hits der letz­ten 50 Jahre.\nOb am Lager­feu­er\, auf Wein­fes­ten\, in gro­ßen Hal­len oder in der Kneipe:\nDer Gitar­rist und Sän­ger begeis­tert stets\, mal als Vor­trag\, mal zum Mitsingen.\nNach dem gro­ßen Zuspruch am Niko­laus­tag des letz­ten Jah­res ist er wie­der da: Paul Radau mit sei­nem spe­zi­el­len Adventsprogramm.\nGer­ne zum Mitsingen! \n19.00 – ca. 21.00 Uhr | Ein­tritt 12\,00 €\nReser­vie­run­gen unter\nkarte.reservieren@web.de oder Tele­fon 0228–4798079
URL:https://fischereimuseum-bergheim.de/event/die-bunte-welt-der-livemusik-paul-radau/
CATEGORIES:Konzerte
END:VEVENT
END:VCALENDAR