BEGIN:VCALENDAR
VERSION:2.0
PRODID:-//Fischereimuseum Bergheim/Sieg - ECPv6.15.20//NONSGML v1.0//EN
CALSCALE:GREGORIAN
METHOD:PUBLISH
X-WR-CALNAME:Fischereimuseum Bergheim/Sieg
X-ORIGINAL-URL:https://fischereimuseum-bergheim.de
X-WR-CALDESC:Veranstaltungen für Fischereimuseum Bergheim/Sieg
REFRESH-INTERVAL;VALUE=DURATION:PT1H
X-Robots-Tag:noindex
X-PUBLISHED-TTL:PT1H
BEGIN:VTIMEZONE
TZID:Europe/Berlin
BEGIN:DAYLIGHT
TZOFFSETFROM:+0100
TZOFFSETTO:+0200
TZNAME:CEST
DTSTART:20170326T010000
END:DAYLIGHT
BEGIN:STANDARD
TZOFFSETFROM:+0200
TZOFFSETTO:+0100
TZNAME:CET
DTSTART:20171029T010000
END:STANDARD
BEGIN:DAYLIGHT
TZOFFSETFROM:+0100
TZOFFSETTO:+0200
TZNAME:CEST
DTSTART:20180325T010000
END:DAYLIGHT
BEGIN:STANDARD
TZOFFSETFROM:+0200
TZOFFSETTO:+0100
TZNAME:CET
DTSTART:20181028T010000
END:STANDARD
BEGIN:DAYLIGHT
TZOFFSETFROM:+0100
TZOFFSETTO:+0200
TZNAME:CEST
DTSTART:20190331T010000
END:DAYLIGHT
BEGIN:STANDARD
TZOFFSETFROM:+0200
TZOFFSETTO:+0100
TZNAME:CET
DTSTART:20191027T010000
END:STANDARD
END:VTIMEZONE
BEGIN:VEVENT
DTSTART;TZID=Europe/Berlin:20181108T190000
DTEND;TZID=Europe/Berlin:20181108T210000
DTSTAMP:20260421T015855
CREATED:20180827T145546Z
LAST-MODIFIED:20180827T145546Z
UID:209-1541703600-1541710800@fischereimuseum-bergheim.de
SUMMARY:Doc Vintage – Hits von Flower-Power bis 80er Jahre
DESCRIPTION:Die Nach­fra­ge zum Kon­zert am 19. April war über­wäl­ti­gend\, das Kar­ten­kon­tin­gent schnell ver­grif­fen\, das Kon­zert begeis­ternd. Das ver­langt nach Wiederholung! \nLas­sen auch Sie sich ver­zau­bern vom Sound des mehr­stim­mi­gen Gesangs\, beglei­tet von Gitar­ren\, Bass und Man­do­li­ne. Die Band lässt die Hits der 60er bis 80er Jah­re wie­der auf­er­ste­hen und wird auch Sie in ihren Bann ziehen.
URL:https://fischereimuseum-bergheim.de/event/doc-vintage-hits-von-flower-power-bis-80er-jahre/
CATEGORIES:Konzerte
ATTACH;FMTTYPE=image/jpeg:https://fischereimuseum-bergheim.de/wp-content/uploads/doc-vintage.jpg
ORGANIZER;CN="Die bunte Welt der Livemusik":MAILTO:karte.reservieren@web.de
END:VEVENT
END:VCALENDAR