BEGIN:VCALENDAR
VERSION:2.0
PRODID:-//Fischereimuseum Bergheim/Sieg - ECPv6.15.20//NONSGML v1.0//EN
CALSCALE:GREGORIAN
METHOD:PUBLISH
X-ORIGINAL-URL:https://fischereimuseum-bergheim.de
X-WR-CALDESC:Veranstaltungen für Fischereimuseum Bergheim/Sieg
REFRESH-INTERVAL;VALUE=DURATION:PT1H
X-Robots-Tag:noindex
X-PUBLISHED-TTL:PT1H
BEGIN:VTIMEZONE
TZID:Europe/Berlin
BEGIN:DAYLIGHT
TZOFFSETFROM:+0100
TZOFFSETTO:+0200
TZNAME:CEST
DTSTART:20170326T010000
END:DAYLIGHT
BEGIN:STANDARD
TZOFFSETFROM:+0200
TZOFFSETTO:+0100
TZNAME:CET
DTSTART:20171029T010000
END:STANDARD
BEGIN:DAYLIGHT
TZOFFSETFROM:+0100
TZOFFSETTO:+0200
TZNAME:CEST
DTSTART:20180325T010000
END:DAYLIGHT
BEGIN:STANDARD
TZOFFSETFROM:+0200
TZOFFSETTO:+0100
TZNAME:CET
DTSTART:20181028T010000
END:STANDARD
BEGIN:DAYLIGHT
TZOFFSETFROM:+0100
TZOFFSETTO:+0200
TZNAME:CEST
DTSTART:20190331T010000
END:DAYLIGHT
BEGIN:STANDARD
TZOFFSETFROM:+0200
TZOFFSETTO:+0100
TZNAME:CET
DTSTART:20191027T010000
END:STANDARD
END:VTIMEZONE
BEGIN:VEVENT
DTSTART;TZID=Europe/Berlin:20181104T110000
DTEND;TZID=Europe/Berlin:20181104T130000
DTSTAMP:20260421T081951
CREATED:20180828T120425Z
LAST-MODIFIED:20180828T120442Z
UID:274-1541329200-1541336400@fischereimuseum-bergheim.de
SUMMARY:Vernissage – „Sigrids/Secrets: Die Suche nach dem Verborgenen“
DESCRIPTION:Aus­stel­lung von Sig­rid Mülders \nDie Suche nach dem Ver­bor­ge­nen\, dem zunächst Unsicht­ba­ren\, das sich durch Mus­ter und Struk­tu­ren\, aus Far­be\, Was­ser und Sand zeigt\, ist das Geheim­nis krea­ti­ven Tuns. \nDie Ver­nis­sa­ge fin­det am 04.11.2018 um 11:00 Uhr statt. \nDie Aus­stel­lung ist bis Mit­te Janu­ar im Muse­um zu sehen.
URL:https://fischereimuseum-bergheim.de/event/vernissage-sigrids-secrets-die-suche-nach-dem-verborgenen/
CATEGORIES:Ausstellung
ORGANIZER;CN="Fischereimuseum":MAILTO:info@fischereimuseum-bergheim-sieg.de
END:VEVENT
END:VCALENDAR